BEGIN:VCALENDAR
VERSION:2.0
PRODID:-//Mazury - ECPv5.15.0.1//NONSGML v1.0//EN
CALSCALE:GREGORIAN
METHOD:PUBLISH
X-WR-CALNAME:Mazury
X-ORIGINAL-URL:https://mazurynaszlakukultury.pl
X-WR-CALDESC:Events for Mazury
REFRESH-INTERVAL;VALUE=DURATION:PT1H
X-Robots-Tag:noindex
X-PUBLISHED-TTL:PT1H
BEGIN:VTIMEZONE
TZID:Europe/Warsaw
BEGIN:DAYLIGHT
TZOFFSETFROM:+0100
TZOFFSETTO:+0200
TZNAME:CEST
DTSTART:20230326T010000
END:DAYLIGHT
BEGIN:STANDARD
TZOFFSETFROM:+0200
TZOFFSETTO:+0100
TZNAME:CET
DTSTART:20231029T010000
END:STANDARD
END:VTIMEZONE
BEGIN:VEVENT
DTSTART;VALUE=DATE:20230407
DTEND;VALUE=DATE:20230412
DTSTAMP:20260424T133800
CREATED:20230223T090644Z
LAST-MODIFIED:20230223T091116Z
UID:5929-1680825600-1681257599@mazurynaszlakukultury.pl
SUMMARY:Wielkanoc na Mazurach w Hotelu Robert's Port
DESCRIPTION:Rodzinna Wielkanoc w hotelu z basenem to wspaniałe rozwiązanie. Świąteczny pobyt pozwoli kultywować tradycje\, spędzić czas w rodzinnym gronie bez martwienia się o przygotowania i daje szansę na wypoczynek. Proponujemy bogatą ofertę atrakcji: uroczyste śniadanie wielkanocne\, mazurską biesiadę\, rejs statkiem pasażerskim\, muzykę na żywo\, relaks w Strefie Wellness & SPA. Dzieci wezmą udział w codziennych zajęciach prowadzonych przez animatorów. Wielkanoc na Mazurach to także bliskość przyrody\, świeże powietrze i piękne widoki. \nMasz do wykorzystania bon turystyczny? Zarezerwuj pobyt i dokonaj przedpłaty bonem turystycznym\, zanim przepadnie. Bon turystyczny ważny do 31.03.2023 r.  \nPakiet obowiązuje w terminie: 07-11.04.2023 minimum 2 noce. \nCena Pakietu za dwie doby!!! \nDłużej = taniej!\nJeśli zdecydujesz się na pobyt minimum 3 noce otrzymasz dodatkowy rabat 10%. \nNajbogatszy w atrakcje Pakiet Wielkanocny na Mazurach! \nŚwięta Wielkanocne to najlepszy czas na odpoczynek.\nZapraszamy do skorzystania z: \n\npobytu w wybranym komfortowym pokoju: Standard\, Premium\, Superior\, Apartament\, itp.\nwyśmienitych śniadań w tym dwóch śniadań świątecznych w bufecie\,\nobiadokolacji z daniami kuchni regionalnej\, w tym jedna obiadokolacja świąteczna z muzyką na żywo\,\nBiesiady Mazurskiej z wędzonymi rybami i muzyką na żywo\,\ndegustacji alkoholi dla dorosłych\,\nchwili wytchnienia w Strefie Wellness z basenem\, jacuzzi\, saunami i pokojem relaksu\,\nKlubu Fitness PORT\,\natrakcji dla najmłodszych gości: codzienne bloki animacji z profesjonalnymi animatorami\,\nsali zabaw z „Małpim Gajem”\, mnóstwem zabawek\, przyborami plastycznymi\, grami\nsalon gier Playstation 5\n\nZa dodatkową opłatą zapraszamy do skorzystania: \n\nrejsu statkiem pasażerskim na święcenie pokarmów (wieloletnia hotelowa tradycja)*\,\nkręgielni\,\nklubu nocnego\,\nSPA Witalna Przystań\n\nPlan Animacji dla dzieci: \n08.04.2023 r. \n09.04.2023 r. \n10.04.2023 r. \nŁączenie pakietów \nNiezależnie od rodzaju pakietu\, zawsze możliwe jest wydłużenie pobytu (wcześniejszy przyjazd lub późniejszy wyjazd)\, jednak dodatkowe dni mogą nie uwzględniać\, niektórych świadczeń wynikających ze specjalnego pakietu lub promocji (np. długie weekendy lub święta) \nJeśli oferta pakietowa nie mówi inaczej\, pakiet nie łączy się z innymi promocjami. Skontaktuj sie z recepcją w przypadku dodatkowych pytań. \nHotel zastrzega sobie prawo do zmiany harmonogramu. \n 
URL:https://mazurynaszlakukultury.pl/wydarzenie/wielkanoc-na-mazurach/
LOCATION:HOTEL ROBERT’S PORT\, Stare Sady 4\, Mikołajki\, Warmińsko-Mazurskie\, 11-730\, Poland
ATTACH;FMTTYPE=image/jpeg:https://mazurynaszlakukultury.pl/wp-content/uploads/2023/02/NzwLtq5uiBZtnBCl.jpg
ORGANIZER;CN="Hotel%20Robert%27s%20Port":MAILTO:recepcja@hotel-port.pl
GEO:53.842264;21.546546
X-APPLE-STRUCTURED-LOCATION;VALUE=URI;X-ADDRESS=HOTEL ROBERT’S PORT Stare Sady 4 Mikołajki Warmińsko-Mazurskie 11-730 Poland;X-APPLE-RADIUS=500;X-TITLE=Stare Sady 4:geo:21.546546,53.842264
END:VEVENT
END:VCALENDAR