BEGIN:VCALENDAR
VERSION:2.0
PRODID:-//Mazury - ECPv5.15.0.1//NONSGML v1.0//EN
CALSCALE:GREGORIAN
METHOD:PUBLISH
X-WR-CALNAME:Mazury
X-ORIGINAL-URL:https://mazurynaszlakukultury.pl
X-WR-CALDESC:Events for Mazury
REFRESH-INTERVAL;VALUE=DURATION:PT1H
X-Robots-Tag:noindex
X-PUBLISHED-TTL:PT1H
BEGIN:VTIMEZONE
TZID:Europe/Warsaw
BEGIN:DAYLIGHT
TZOFFSETFROM:+0100
TZOFFSETTO:+0200
TZNAME:CEST
DTSTART:20230326T010000
END:DAYLIGHT
BEGIN:STANDARD
TZOFFSETFROM:+0200
TZOFFSETTO:+0100
TZNAME:CET
DTSTART:20231029T010000
END:STANDARD
END:VTIMEZONE
BEGIN:VEVENT
DTSTART;TZID=Europe/Warsaw:20230607T150000
DTEND;TZID=Europe/Warsaw:20230611T120000
DTSTAMP:20260424T132228
CREATED:20230517T065634Z
LAST-MODIFIED:20230517T065634Z
UID:6206-1686150000-1686484800@mazurynaszlakukultury.pl
SUMMARY:Długi Weekend Czerwcowy na Mazurach
DESCRIPTION:Pakiet obowiązuje w terminie 7-11.06.2023 (min. 3 noclegi) \nPrzekonaj się\, że to doskonały termin na krótki urlop! To jeszcze nie wakacje\, ale już można korzystać z ciepłej\, słonecznej pogody i bogactwa możliwości na spędzenie wolnego czasu. W czerwcu wyraźnie czuć przedsmak lata. Zachęcamy\, by rozkoszować się plażą i jeziorem\, wybrać się na wycieczkę rowerową i rejs na pokładzie hotelowego statku. Proponujemy również klimatyczne wieczory kulinarne z muzyką na żywo\, relaks w strefie basenowej bądź w SPA Witalna Przystań. Długi Weekend Czerwcowy na Mazurach to także pakiet stworzony z myślą o dzieciach. Oferujemy codzienne animacje w pakiecie. \nZarezerwuj już dziś z rabatem First Minute.  \nZapraszamy do skorzystania z:\n\npobytu w wybranych komfortowym pokoju: Standard\, Premium\, Superior\, Apartament\, itp.\,\nwyśmienitych śniadań w bufecie\,\nobiadokolacji z daniami kuchni regionalnej\,\nwieczorów kulinarnych: Biesiada Grillowa z muzyką na żywo w czwartek 08.06.\,\nKina plenerowego\,\nRodzinnego Turnieju Kręgli\,\nDyskoteki dla rodzin z dziećmi z fotobudką 360\,\nWieczoru Szantowego w Tawernie\,\nZajęć z instruktorem w Fitness Port\,\nCodziennych animacji i warsztatów dla dzieci\n\nDodatkowo płatne:\n\nSpacerowy rejs hotelowym statkiem pasażerskim\nWypożyczalnia sprzętu wodnego: kajaki\, rowery wodne\, łódź motorowa\nWypożyczalnia rowerów (zachęcamy do wypróbowania Mazurskiej Pętli Rowerowej przebiegającej przez Stare Sady)\nRelaksujące i upiększające zabiegi w hotelowym SPA „Witalna Przystań”\nCodziennie rejsy z Mikołajek (zobacz cennik rejsów)\nBilard\, piłkarzyki\n\nAtrakcje dla dzieci na długi weekend czerwcowy:\n\nCodzienne animacje dla najmłodszych gości\nKorzystanie z Klubu Malucha z „Małpim Gajem”\nZewnętrzne place zabaw z piaskownicami i mnóstwem atrakcji\nSalon gier Xbox\nWypożyczalnie gier planszowych\nStół do tenisa stołowego\n\n  \nRealizacja atrakcji może być zależna od warunków pogodowych. Harmonogram może ulec zmianie.
URL:https://mazurynaszlakukultury.pl/wydarzenie/dlugi-weekend-czerwcowy-na-mazurach/
LOCATION:HOTEL ROBERT’S PORT\, Stare Sady 4\, Mikołajki\, Warmińsko-Mazurskie\, 11-730\, Poland
CATEGORIES:Pobyt dla Dwojga,Relaks,Rozrywka
ATTACH;FMTTYPE=image/jpeg:https://mazurynaszlakukultury.pl/wp-content/uploads/2023/03/AC4xqMP3qJsAnOlO.jpeg
ORGANIZER;CN="Hotel%20Robert%27s%20Port":MAILTO:recepcja@hotel-port.pl
GEO:53.842264;21.546546
X-APPLE-STRUCTURED-LOCATION;VALUE=URI;X-ADDRESS=HOTEL ROBERT’S PORT Stare Sady 4 Mikołajki Warmińsko-Mazurskie 11-730 Poland;X-APPLE-RADIUS=500;X-TITLE=Stare Sady 4:geo:21.546546,53.842264
END:VEVENT
BEGIN:VEVENT
DTSTART;TZID=Europe/Warsaw:20230310T150000
DTEND;TZID=Europe/Warsaw:20230312T110000
DTSTAMP:20260424T132228
CREATED:20230223T101334Z
LAST-MODIFIED:20230223T115518Z
UID:5939-1678460400-1678618800@mazurynaszlakukultury.pl
SUMMARY:Twój wymarzony Dzień Kobiet w Hotelu Robert's Port pakiet pobytowy
DESCRIPTION:Zrelaksuj się w hotelu i SPA na Mazurach wraz ze swoją przyjaciółką\, siostrą\, mamą\, teściową lub inną bliską Ci kobietą. Dzień Kobiet to wSPAniała ku temu okazja! W ramach pakietu czeka Cię voucher (50 zł) na dowolny zabieg \, relaks w strefie basenowej\, smaczne jedzenie i piękne okoliczności mazurskiej przyrody. Błogie wspomnienie zostanie z Tobą na długo po powrocie do codzienności. \nDo skorzystania z oferty zapraszamy w terminie 10-12.03.2023 \nPakiet na Dzień Kobiet zawiera:\n\n2 noclegi w komfortowo wyposażonym pokoju\nŚniadania\nObiadokolacje\n\nVoucher kwotowy (50 zł) na dowolny zabieg za min. 250 zł w SPA\nDyskoteka z występem Chippendalesów (dyskoteka z DJem\, zimne przekąski w bufecie\, atrakcyjne nagrody\, fotobudka 360\, napoje i alkohole w promocyjnych cenach) \n\n\nPonadto w ramach pakietu zapewniamy:\n\nDostęp do siłowni w Klubie Fitness PORT\nRelaks w centrum Wellness: basen rekreacyjny\, jacuzzi\, brodzik\nOdpoczynek w strefie saun (sauna sucha\, infrared\, łaźnia parowa) oraz w pokoju relaksu\nParking\n\nAby zabieg został zrealizowany\, należy dokonać rezerwacji zabiegu w Recepcji SPA na minimum 7 dni przed planowanym pobytem. Hotel nie ponosi odpowiedzialności za niezrealizowanie zabiegów z powodu braku wolnych miejsc wynikających z niedokonania wcześniejszej rezerwacji. \nKontakt: tel. 87 429 84 82 lub email: spa@hotel-port.pl \nŁączenie pakietów \nNiezależnie od czasu trwania danego pakietu\, zawsze możliwe jest wydłużenie pobytu (wcześniejszy przyjazd lub późniejszy wyjazd). Dodatkowe dni mogą jednak nie uwzględniać niektórych świadczeń wynikających ze specjalnego pakietu lub promocji (np. długie weekendy lub święta). \nJeśli oferta pakietowa nie mówi inaczej\, pakiet nie łączy się z innymi promocjami. Skontaktuj się z recepcją w przypadku dodatkowych pytań. \nHotel zastrzega sobie prawo do zmiany harmonogramu.
URL:https://mazurynaszlakukultury.pl/wydarzenie/twoj-wymarzony-dzien-kobiet-w-hotelu-roberts-port/
LOCATION:HOTEL ROBERT’S PORT\, Stare Sady 4\, Mikołajki\, Warmińsko-Mazurskie\, 11-730\, Poland
CATEGORIES:Pobyt dla Dwojga,Relaks,Rozrywka
ATTACH;FMTTYPE=image/jpeg:https://mazurynaszlakukultury.pl/wp-content/uploads/2023/02/7D62mFUeKNaeB9xE.jpg
ORGANIZER;CN="Hotel%20Robert%27s%20Port":MAILTO:recepcja@hotel-port.pl
GEO:53.842264;21.546546
X-APPLE-STRUCTURED-LOCATION;VALUE=URI;X-ADDRESS=HOTEL ROBERT’S PORT Stare Sady 4 Mikołajki Warmińsko-Mazurskie 11-730 Poland;X-APPLE-RADIUS=500;X-TITLE=Stare Sady 4:geo:21.546546,53.842264
END:VEVENT
END:VCALENDAR