BEGIN:VCALENDAR
VERSION:2.0
PRODID:-//Mazury - ECPv5.15.0.1//NONSGML v1.0//EN
CALSCALE:GREGORIAN
METHOD:PUBLISH
X-WR-CALNAME:Mazury
X-ORIGINAL-URL:https://mazurynaszlakukultury.pl
X-WR-CALDESC:Events for Mazury
REFRESH-INTERVAL;VALUE=DURATION:PT1H
X-Robots-Tag:noindex
X-PUBLISHED-TTL:PT1H
BEGIN:VTIMEZONE
TZID:Europe/Warsaw
BEGIN:DAYLIGHT
TZOFFSETFROM:+0100
TZOFFSETTO:+0200
TZNAME:CEST
DTSTART:20230326T010000
END:DAYLIGHT
BEGIN:STANDARD
TZOFFSETFROM:+0200
TZOFFSETTO:+0100
TZNAME:CET
DTSTART:20231029T010000
END:STANDARD
END:VTIMEZONE
BEGIN:VEVENT
DTSTART;TZID=Europe/Warsaw:20230311T200000
DTEND;TZID=Europe/Warsaw:20230312T020000
DTSTAMP:20260424T145434
CREATED:20230223T110108Z
LAST-MODIFIED:20230223T120712Z
UID:5944-1678564800-1678586400@mazurynaszlakukultury.pl
SUMMARY:Dzień Kobiet w Hotelu Robert's Port show
DESCRIPTION:Dzień Kobiet w Hotelu Robert’s Port\n11.03.2023 godz. 20:00 \nW cenie:\nWystęp Chippendalesów\nZabawa z DJ-em\nZimne Przekąski w bufecie\nAtrakcyjne nagrody\nFotobudka 360\nNapoje i alkohole w promocyjnych cenach
URL:https://mazurynaszlakukultury.pl/wydarzenie/dzien-kobiet-w-hotelu-roberts-port/
LOCATION:HOTEL ROBERT’S PORT\, Stare Sady 4\, Mikołajki\, Warmińsko-Mazurskie\, 11-730\, Poland
CATEGORIES:Relaks,Rozrywka,Spektakl
ATTACH;FMTTYPE=image/jpeg:https://mazurynaszlakukultury.pl/wp-content/uploads/2023/02/Przemek-01-2-scaled-e1677149974661.jpg
ORGANIZER;CN="Hotel%20Robert%27s%20Port":MAILTO:recepcja@hotel-port.pl
GEO:53.842264;21.546546
X-APPLE-STRUCTURED-LOCATION;VALUE=URI;X-ADDRESS=HOTEL ROBERT’S PORT Stare Sady 4 Mikołajki Warmińsko-Mazurskie 11-730 Poland;X-APPLE-RADIUS=500;X-TITLE=Stare Sady 4:geo:21.546546,53.842264
END:VEVENT
END:VCALENDAR